BEGIN:VCALENDAR
VERSION:2.0
PRODID:-//Talapitiya Ahadiyya - ECPv4.5.7//NONSGML v1.0//EN
CALSCALE:GREGORIAN
METHOD:PUBLISH
X-WR-CALNAME:Talapitiya Ahadiyya
X-ORIGINAL-URL:http://www.ahadiyya.org
X-WR-CALDESC:Events for Talapitiya Ahadiyya
BEGIN:VEVENT
DTSTART;VALUE=DATE:20120122
DTEND;VALUE=DATE:20120122
DTSTAMP:20260420T102259
CREATED:20120102T031158Z
LAST-MODIFIED:20120102T031158Z
UID:138-1327190400-1327276740@www.ahadiyya.org
SUMMARY:New Admission Day - 2012
DESCRIPTION:Insha’allah new admission day 2012 is scheduled to be held on 22nd Jan 2012 at 8:30 A.M. at Muslim Ladies College main hall; all students must be accompanied by parents. \n\nTweet\n
URL:http://www.ahadiyya.org/event/new-admission-day-2012/
END:VEVENT
END:VCALENDAR